BEGIN:VCALENDAR
METHOD:PUBLISH
VERSION:2.0
PRODID:-//Eventilla iCal Syndication//NONSGML Liana//EN
BEGIN:VEVENT
UID:j1P5B@eventilla.com
DTSTAMP:20241009T210000Z
DTSTART:20241009T210000Z
DTEND:20241104T215900Z
SUMMARY:Myynti- ja palvelupäällikkö
DESCRIPTION:Läntinen tanssin aluekeskus (LTA) hakee myynti- ja palvelupäällikköä.\nHaemme myynti- ja palvelupäällikköä vakinaiseen työsuhteeseen 100% työajalla. Tulet työskentelemään tiiviissä yhteistyössä aluekeskuksen muun henkilökunnan sekä alueen tanssitaiteilijoiden ja tanssin toimijoiden kanssa. Lisäksi asioit päivittäin sidosryhmiemme kuten kuntien\, hyvinvointialueen ja järjestöjen kanssa.Sinulla on soveltuva korkeakoulututkinto tai vastaava osaaminen ja työkokemus. Työ edellyttää taidekentän tai vastaavan toimintaympäristön tuntemusta ja sille ominaisen syklisyyden hallintaa. Ymmärrät esittävän taiteen keikka- ja palvelumyynnin\, palvelumuotoilun ja palveluiden tuottamisen ydinasiat ja sinulla on vastaavasta kokemusta. Kehitämme toimintaamme yksityisen sektorin kanssa ja eduksi luemme osaamisen tässä ympäristössä. Toimintamme keskiössä ovat avoimuus\, omaäänisyys ja yhteisöllisyys. Näet palveluiden kehittämisen tarpeen ja myynnin mahdollisuudet toiminnassa ja työnkuvasi kehittyy siihen suuntaan. Olet yrittäjähenkinen ja halukas tekemään tulosta. Muuttuvan työelämän haasteet ovat sinulle tuttuja ja olet osa muutosta.Hallitset nykyaikaiset ja ajankohtaiset työtavat ja työkalut niin asiakas- kuin sidosryhmätyössä ja taloushallinnossa. Työkielenämme on suomi\, kansainvälisissä verkostoissa kommunikoimme sujuvasti englanniksi. Muu kielitaito\, erityisesti ruotsi\, katsotaan eduksi.Pienessä organisaatiossamme työnkuva on laaja ja innostava sekä antaa mahdollisuuden ammatilliseen kasvuun. Työsi pitää sisällään palveluiden ja taidesisältöjen konseptoinnin ja myynnin. Lisäksi tehtäviisi kuuluu hanketyötä kuten hankehakemusten laatimista\, hankkeiden läpivientiä\, markkinointitoimia sekä toimisto- ja hallintorutiineja. Nautit asiakastapaamisista ja olet parhaimmillasi sidosryhmien kohtaamisessa. Läntinen tanssin aluekeskus toimii Varsinais-Suomessa ja Satakunnassa ja työ sisältää liikkumista alueella. Työpisteesi sijaitsee toimistollamme Kulttuuritehdas Manillassa\, Aurajoen rannalla. Noudatamme Teatterialan työehtosopimusta.Rekrytoimme anonyymisti\, joten laadi vapaamuotoinen hakemuksesi siten\, että siitä ei käy ilmi tietoja\, joista henkilöllisyytesi voisi tunnistaa. Tarkentavat henkilötiedot täytetään lomakkeelle.Ensimmäiset haastattelut pidetään viikolla 46 Turussa. Tehtävä alkaa joulukuun aikana tai sopimuksen mukaan. Lisätietoja tehtävästä: 16.10.2024 klo 11-12\, 25.10.2024 klo 13-14 ja 28.10.2024 klo 16-17toiminnanjohtaja Sanna Meska p. +358 400 546 016.\nLähetä vapaamuotoinen hakemuksesi palkkatoiveineen sekä CV viimeistään 4.11.2024 alla olevasta painikkeesta. Toimitathan hakemuksen ajoissa järjestelmään. Haun anonyymin luonteen vuoksi emme ota hakemuksia vastaan sähköpostitse. \nTeknisiin haasteisiin vastaamme vain sähköpostitse info@l-tanssi.fi ma-ke klo 9-16. Otathan huomioon\, että lomakkeen täyttäminen tulee tehdä 30 minuutin aikana. Voit muokata hakemustasi hakuajan puitteissa sähköpostiisi saapuneen vahvistusviestin kautta. Liitteet tulee olla pdf-muodossa.\nLäntinen tanssin aluekeskus (LTA) on yksi kuudesta tanssin aluekeskuksesta. Aluekeskustoiminnan keskeiset tavoitteet ovat sen käynnistämisestä lähtien olleet toimialan kehittäminen\, tanssin saatavuuden ja saavutettavuuden alueellinen ja sosiaalinen edistäminen sekä tanssitaiteilijoiden työllisyyden parantaminen.\n 
LOCATION:Manilla\, Itäinen rantakatu 64b, C-talo\, 20810\, Turku\, Suomi
URL:http://ssl.tapahtumakone.fi/palvelujamyyntipaallikko2024
END:VEVENT
END:VCALENDAR
