BEGIN:VCALENDAR
METHOD:PUBLISH
VERSION:2.0
PRODID:-//Eventilla iCal Syndication//NONSGML Liana//EN
BEGIN:VEVENT
UID:j1PDe@eventilla.com
DTSTAMP:20240514T060000Z
DTSTART:20240514T060000Z
DTEND:20240514T080000Z
SUMMARY:Viranhaltijan vastuut -webinaari
DESCRIPTION:Rakennustarkastusyhdistys RTY \nViranhaltijan vastuut -webinaari\nTiistaina 14.5.2024 klo 9.00 - 11.00.\nLuennoitsijana varatuomari Lauri Jääskeläinen. Webinaarin puheenjohtajana toimii RTY:n puheenjohtaja\, Vantaan rakennusvalvontapäällikkö Risto Levanto.\nWebinaarin lopuksi on varattu aikaa kysymyksille ja keskustelulle.\nOhjelma:\n- Webinaarin avaus\, Risto Levanto- Viranhaltijan vastuut\, Lauri Jääskeläinen- Keskustelua ja kysymyksiä.\nWebinaarin hinta on 80 € (alv. 0 %) / henkilö.Jos osallistujia on yli 10 henkeä samasta kunnasta\, on joka kolmas (yli 10 ylittävä) osallistuja ilmainen. Kun osallistujia on yli 20\, on joka toinen (20 ylittävä) ilmainen. Kun osallistujia on yli 30\, osallistuvat kaikki loput ilmaiseksi.Osallistuminen on maksutonta RTY:n seniorijäsenille\nLähetämme ilmoittautuneille osallistumislinkin päivää ennen tilaisuutta. Webinaari on katsottavissa myös jälkikäteen\, lähetämme linkin tallenteeseen tilaisuuden jälkeen.\nTervetuloa mukaan!\n \nLisätietoja RTY Sara Keravuori 045 1230238 tai sara.keravuori@rty.inet.fi
LOCATION:Webinaari
URL:http://ssl.tapahtumakone.fi/event/j1PDe
END:VEVENT
END:VCALENDAR
