BEGIN:VCALENDAR
METHOD:PUBLISH
VERSION:2.0
PRODID:-//Eventilla iCal Syndication//NONSGML Liana//EN
BEGIN:VEVENT
UID:jeaY1@eventilla.com
DTSTAMP:20210825T140000Z
DTSTART:20210825T140000Z
DTEND:20210825T150000Z
SUMMARY:Ohjattu ryhmätreeni
DESCRIPTION:Ohjattu ryhmätreeni +30 tasoituksen omaaville keskiviikkona 25.8.\nOhjatun harjoituksen tarkoituksena on opastaa +30 tasoituksella pelaavia golfareita ohjatun ryhmäharjoittelun saloihin.\nHarjoituksen vetämisestä vastaavat Oona (seurakoordinaattori) ja Jarkko (seuraohjaaja). Teemana rautalyönnit.\nTapahtuman maksu 5€\, joka maksetaan caddiemasterille ennen tapahtuman alkua. Avoin kaikille seuran jäsenille.\nIlmoittaudu mukaan 24.8. klo 18:00 mennessä. Voit ilmoittautua myös Caddiemasterin kautta soittamalla: (02) 4312 787\nKokoontuminen klubin edessä.\nPaikkoja 10 pelaajalle.
LOCATION:Kankaisten Golfpuisto\, Maskuntie 281\, 21250\, Masku
URL:http://ssl.tapahtumakone.fi/event/jeaY1
END:VEVENT
END:VCALENDAR
