BEGIN:VCALENDAR
METHOD:PUBLISH
VERSION:2.0
PRODID:-//Eventilla iCal Syndication//NONSGML Liana//EN
BEGIN:VEVENT
UID:jeoJ1@eventilla.com
DTSTAMP:20240423T060000Z
DTSTART:20240423T060000Z
DTEND:20240423T080000Z
SUMMARY:Asiakirjojen julkisuus ja salassapito viranomaisen toiminnassa -webinaari
DESCRIPTION:Rakennustarkastusyhdistys RTY \nAsiakirjojen julkisuus ja salassapito viranomaisen toiminnassa -webinaari\nTiistaina 23.4.2024 klo 9.00 - 11.00.\nLuennoitsijana toimii rakennuslakimies Kaisa Hongisto Helsingin rakennusvalvonnasta. Webinaarin puheenjohtajana toimii valvontajohtaja Leena Salmelainen Turusta.\nOhjelma:\n- Webinaarin avaus- Asiakirjojen julkisuus ja salassapito viranomaisen toiminnassa- Keskustelua ja kysymyksiä.\nWebinaarin hinta on 80 € (alv. 0 %) / henkilö.Jos osallistujia on yli 10 henkeä samasta kunnasta\, on joka kolmas (yli 10 ylittävä) osallistuja ilmainen. Kun osallistujia on yli 20\, on joka toinen (20 ylittävä) ilmainen. Kun osallistujia on yli 30\, osallistuvat kaikki loput ilmaiseksi.Osallistuminen on maksutonta RTY:n seniorijäsenille\nLähetämme ilmoittautuneille osallistumislinkin päivää ennen tilaisuutta. Webinaari on katsottavissa myös jälkikäteen\, lähetämme linkin tallenteeseen tilaisuuden jälkeen.\nTervetuloa mukaan!\n \nLisätietoja RTY Sara Keravuori 045 1230238 tai sara.keravuori@rty.inet.fi
LOCATION:Webinaari
URL:http://ssl.tapahtumakone.fi/event/jeoJ1
END:VEVENT
END:VCALENDAR
