BEGIN:VCALENDAR
METHOD:PUBLISH
VERSION:2.0
PRODID:-//Eventilla iCal Syndication//NONSGML Liana//EN
BEGIN:VEVENT
UID:m0WQX@eventilla.com
DTSTAMP:20240131T070000Z
DTSTART:20240131T070000Z
DTEND:20240131T090000Z
SUMMARY:RTY Hallintolaki-webinaari
DESCRIPTION:Rakennustarkastusyhdistys RTY \nHallintolaki-webinaari\nKeskiviikkona 31.1.2024 klo 9.00 - 11.00.\nUusi rakentamislaki edellyttää aiempaa parempaa hallintolain osaamista rakennusvalvonnoissa. Luennoitsijana toimii varatuomari Lauri Jääskeläinen.\nOhjelma:- Hallintolaki- Keskustelua ja kysymyksiä.\nWebinaarin hinta on 80 € (alv. 0 %) / henkilö.Jos osallistujia on yli 10 henkeä samasta kunnasta\, on joka kolmas (yli 10 ylittävä) osallistuja ilmainen. Kun osallistujia on yli 20\, on joka toinen (20 ylittävä) ilmainen. Kun osallistujia on yli 30\, osallistuvat kaikki loput ilmaiseksi.Osallistuminen on maksutonta RTY:n seniorijäsenille\nLähetämme ilmoittautuneille osallistumislinkin päivää ennen tilaisuutta. Osallistumislinkin kautta webinaari on katsottavissa myös jälkikäteen.\nTervetuloa mukaan!\n \nLisätietoja RTY Sara Keravuori 045 1230238 tai sara.keravuori@rty.inet.fi
LOCATION:Webinaari
URL:http://ssl.tapahtumakone.fi/event/m0WQX
END:VEVENT
END:VCALENDAR
