BEGIN:VCALENDAR
METHOD:PUBLISH
VERSION:2.0
PRODID:-//Eventilla iCal Syndication//NONSGML Liana//EN
BEGIN:VEVENT
UID:m7z05@eventilla.com
DTSTAMP:20230614T060000Z
DTSTART:20230614T060000Z
DTEND:20230614T080000Z
SUMMARY:Tilannekatsaus ilmastoselvityksestä ja vähähiilisestä rakentamisesta
DESCRIPTION:Rakennustarkastusyhdistys RTY \nTilannekatsaus ilmastoselvityksestä ja vähähiilisestä rakentamisesta -webinaari\n\n\n\n \n\n\nTilannekatsaus ilmastoselvityksestä ja vähähiilisestä rakentamisesta\n\n\n \n\n\nKeskiviikkona 14.6.2023 klo 9.00 - 11.00\n\n\n\nPuheenjohtaja: Markku Hienonen\, RTY\nOhjelma:\nWebinaarin avauspääsihteeri Markku Hienonen\, Rakennustarkastusyhdistys RTY ryTilannepäivitys ilmastoselvityksestä ja vähähiilisestä rakentamisestahallitussihteeri Mikko Koskela\, ympäristöministeriöIlmastoselvitysasetuksen vaikutukset rakennuksen hiilijalanjäljen laskentaanerityisasiantuntija Ari Ilomäki\, Rakennustuoteteollisuus RTT ryEsimerkki Oulusta - miten tulevien asuntomessujen 2025 kohteiden ympäristövaikutuksia ja vähähiilisyyttä tullaan käytännössä arvioimaanilmastoneuvoja Tommi Riippa ja vs. tarkastusarkkitehti Sini Varis\, Oulun rakennusvalvonta\nRakennuttajan huolenaiheita - kommenttipuheenvuororakennuttajapäällikkö Kari Puotiniemi\, Oulun Sivakka Oy\nWebinaarin hinta on 75 € (alv. 0 %) / henkilö.Jos osallistujia on yli 15 henkeä samasta kunnasta\, osallistuvat loput ilmaiseksi. Osallistuminen on ilmaista myös RTY:n seniorijäsenille.\nLähetämme ilmoittautuneille osallistumislinkin päivää ennen tilaisuutta.\nTervetuloa mukaan!\nLisätetoja RTY Sara Keravuori 045 123 0238.
LOCATION:Webinaari
URL:http://ssl.tapahtumakone.fi/event/m7z05
END:VEVENT
END:VCALENDAR
