BEGIN:VCALENDAR
METHOD:PUBLISH
VERSION:2.0
PRODID:-//Eventilla iCal Syndication//NONSGML Liana//EN
BEGIN:VEVENT
UID:mQ234@eventilla.com
DTSTAMP:20190710T113000Z
DTSTART:20190710T113000Z
DTEND:20190712T130000Z
SUMMARY:Srixon South West Tour 10.-12.7.2019
DESCRIPTION:\nSrixon South West Tour on aurinkoinen kesäloman kohokohta\, jossa pelataan kolmen kierroksen kilpailukiertue\, yksi kullakin mukana olevalla Turun alueen erinomaisella golfkentällä.\nKiertue alkaa keskiviikkona 10.7. Kankaisten Golfista\, torstaina pelataan Naantalin Aurinko Golfissa ja kiertue päättyy perjantaina Archipelagia Golfiin Paraisille.\nKiertueen aikataulu\n\nKe 10.7. klo 14:30\, Kankaisten Golf\, Masku\nTo 11.7. klo 09:30\, Aurinko Golf\, Naantali\nPe 12.7. klo 09:30\, Archipelagia Golf\, Parainen\n\nSarjat\, yleinen\n\nTasoitus alle 18\,4. Pelimuotona tasoituksellinen lyöntipeli\nTasoitus 18\,4 tai enemmän. Pelimuotona pistebogey\n\nTii\n\nMiehet keltainen\nNaiset punainen\n\nKaikki kierrokset pelataan yhteislähtöinä. Finaalikierroksen (Parainen) lähtöjen asettelussa huomioidaan sijoittuminen kiertueella.\nRunsas Srixon-palkintopöytä\nMolemmista sarjoista palkitaan jokaisen osakilpailun kolme parasta välittömästi pelatun osakilpailun jälkeen.\nKokonaiskilpailusta palkitaan osakilpailumenestyksen perusteella molempien sarjojen kuusi parasta pelaajaa.\nKilpailumaksu & osallistujamäärä\nKiertueen kilpailumaksu 90 € / pelaaja. Kilpailumaksu sisältää kierrosmaksun kolmelle kilpailukierrokselle sekä ruokailun jokaisen kilpailukerroksen yhteydessä. \nKilpailumaksu laskutetaan kilpailujärjestäjän toimesta 1kk ennen kilpailun ajankohtaa.\nMaksimiosallistujamäärä 120 pelaajaa.
LOCATION:Kankaisten Golf, Aurinko Golf, Archipelagia Golf\, Maskuntie
 281\, 21250\, Masku\, Suomi
URL:http://ssl.tapahtumakone.fi/south-west-tour-2019
END:VEVENT
END:VCALENDAR
