BEGIN:VCALENDAR
METHOD:PUBLISH
VERSION:2.0
PRODID:-//Eventilla iCal Syndication//NONSGML Liana//EN
BEGIN:VEVENT
UID:mRLL6@eventilla.com
DTSTAMP:20221121T070000Z
DTSTART:20221121T070000Z
DTEND:20221121T090000Z
SUMMARY:Rakentamislaki-webinaari
DESCRIPTION:Rakennustarkastusyhdistys RTY \nRakentamislaki-webinaari\nHallituksen ehdotus rakentamislaiksi on edennyt eduskuntakäsittelyyn. Tule kuulemaan rakentamislain keskeiset nostot sekä käsittelyn tämänhetkinen tilanne \nMaanantaina 21.11.2022 klo 9.00 - 11.00.\nLuennoitsijat:- hallitusneuvos Kirsi Martinkauppi\, ympäristöministeriö- lainsäädäntöneuvos Pekka Virkamäki ympäristöministeriö\nWebinaarin hinta on 75 € (alv. 0 %) / henkilö.Jos osallistujia on yli 15 henkeä samasta kunnasta\, osallistuvat loput ilmaiseksi. Osallistuminen on ilmaista myös RTY:n eläkeläisjäsenille.\nLähetämme ilmoittautuneille osallistumislinkin päivää ennen tilaisuutta.\nTervetuloa mukaan!
LOCATION:Webinaari
URL:http://ssl.tapahtumakone.fi/event/mRLL6
END:VEVENT
END:VCALENDAR
