BEGIN:VCALENDAR
METHOD:PUBLISH
VERSION:2.0
PRODID:-//Eventilla iCal Syndication//NONSGML Liana//EN
BEGIN:VEVENT
UID:mWGOm@eventilla.com
DTSTAMP:20190328T063000Z
DTSTART:20190328T063000Z
DTEND:20190328T141500Z
SUMMARY:Sport & Business Seminar 2019
DESCRIPTION:Pelikentiltä yritysmaailmaan\nSport & Business Seminar yhdistää huippu-urheilun ja yrityselämän kovan luokan puhujien ja verkostoitumisen äärelle. Tapahtuma on suunnattu erityisesti johtajille\, joille tahdomme antaa mahdollisuuden ammentaa oppeja ja inspiraatiota omaan bisnekseensä urheilumaailmasta ja päinvastoin. Ei kulunutta bisnesjargonia\, vaan konkreettisia esimerkkejä ja ajatuksia. Kehittymisen lisäksi myös kumppanit ovat elintärkeä tekijä menestyksen kannalta\, minkä vuoksi myös verkostoitumista vauhditetaan entistä tehokkaammin.Puhujat:\n\nJukka Jalonen\nOlli-Pekka Kallasvuo\nJohanna Pystynen\nPetteri Kilpinen\n\n            \n \n
LOCATION:Tampere Areena\, Jäähallinraitti 3\, 33540\, Tampere\, Suomi
URL:http://ilmoittaudu.sbseminar.com/event/mWGOm
END:VEVENT
END:VCALENDAR
