BEGIN:VCALENDAR
METHOD:PUBLISH
VERSION:2.0
PRODID:-//Eventilla iCal Syndication//NONSGML Liana//EN
BEGIN:VEVENT
UID:mby7W@eventilla.com
DTSTAMP:20220118T070000Z
DTSTART:20220118T070000Z
DTEND:20220118T093000Z
SUMMARY:Rakentamisen Topten-käytännöt: Rakennuksen korjaus- ja muutostyöt (1. osa)
DESCRIPTION:RAKENNUSTARKASTUSYHDISTYS RTY JA RAKENTAMISEN TOPTEN-VERKOSTO\nRakentamisen Topten-käytännöt -webinaari: Rakennuksen korjaus- ja muutostyöt (1. osa)\nRakennustarkastajille\, suunnittelijoille\, työmaavastaaville\, urakoitsijoille ja rakennusalan ammattilaisille suunnattu koulutus.\nTiistai 18.1.2022 klo 9.00 - 11.30Lähetämme ilmoittautuneille osallistumislinkin päivää ennen tilaisuutta.\nOHJELMA\nAvaus- Pasi Timo\, johtaja\, Espoon ympäristö- ja rakennusvalvontakeskus\nRakennussuunnittelun perusteet korjaus- ja muutosrakentamisessa- Salla Mustonen\, korjaus- ja muutosrakentamisesta ja kaupunkitilasta vastaava lupayksikön päällikkö\, Helsingin rakennusvalvontapalvelut           \nEnergiatehokkuuslomake- Olli Teriö\, korjausrakentamisen asiantuntija\, Oulun rakennusvalvonta\nEsteettömyyslomake-Sirkku Wallin\, esteettömyysasiantuntija\, Espoon rakennusvalvonta\nTurvallisuuslomake- Päivi Myllylä\, aluejohtaja\, Palotekninen Insinööritoimisto Markku Kauriala Oy\nLaadunvarmistusselvitys- Olli Teriö\, korjausrakentamisen asiantuntija\, Oulun Rakennusvalvonta (ohjelmamuutos)\nLoppukeskusteluTuire Sulkava\, tarkastusinsinööri\, Vantaan Rakennusvalvonta\, Topten Korrak pj.\n \nWebinaarin hinta on 70 € (alv. 0 %) / henkilö.Jos osallistujia on yli 15 henkeä samasta kunnasta\, osallistuvat loput ilmaiseksi.\nTervetuloa mukaan!\nRakennuksen korjaus- ja muutostyöt -webinaarin toinen osa järjestetään tiistaina 25.1.2022.Siihen pääset ilmoittautumaan tästä »\n 
LOCATION:Webinaari
URL:http://ssl.tapahtumakone.fi/event/mby7W
END:VEVENT
END:VCALENDAR
