BEGIN:VCALENDAR
METHOD:PUBLISH
VERSION:2.0
PRODID:-//Eventilla iCal Syndication//NONSGML Liana//EN
BEGIN:VEVENT
UID:n6Ewp@eventilla.com
DTSTAMP:20231122T070000Z
DTSTART:20231122T070000Z
DTEND:20231122T090000Z
SUMMARY:Ympäristöministeriön näkökulmia rakennusvalvonnan työhön -webinaari
DESCRIPTION:Rakennustarkastusyhdistys RTY \nYmpäristöministeriön näkökulmia rakennusvalvonnan työhön -webinaari \nKeskiviikkona 22.11.2023 klo 9.00 - 11.00.\nHallitusneuvos Kirsi Martinkauppi tarkastelee rakentamislain rakennusvalvontoja koskevia keskeisiä yksityiskohtia sekä asetusvalmistelun tilannetta.Ohjelma:- Huomionarvoisia yksityiskohtia rakennusvalvonnan kannalta- asetusvalmistelun tilanne- rakentamislain korjaussarja- keskustelua.\nWebinaarin puheenjohtajana toimii rakennusvalvontapäällikkö Leena Jaskanen Helsingin rakennusvalvonnasta.\nHUOM: Voit lähettää etukäteen kysymyksiä Kirsi Martinkaupin vastattavaksi. Lähetä kysymyksesi torstaihin 16.11. mennessä sara.keravuori@rty.inet.fi\nLähetämme ilmoittautuneille osallistumislinkin päivää ennen tilaisuutta. Webinaarin jälkeen lähetämme tallenteen\, joka on katsottavissa jälkikäteen.\nTervetuloa mukaan!\nWebinaarin hinta on 80 € (alv. 0 %) / henkilö.Jos osallistujia on yli 10 henkeä samasta kunnasta\, on joka kolmas (yli 10 ylittävä) osallistuja ilmainen. Kun osallistujia on yli 20\, on joka toinen (20 ylittävä) ilmainen. Kun osallistujia on yli 30\, osallistuvat kaikki loput ilmaiseksi.Osallistuminen on maksutonta RTY:n eläkeläisjäsenille.\nLisätietoja RTY Sara Keravuori 045 1230238 tai sara.keravuori@rty.inet.fi
LOCATION:Webinaari
URL:http://ssl.tapahtumakone.fi/event/n6Ewp
END:VEVENT
END:VCALENDAR
