BEGIN:VCALENDAR
METHOD:PUBLISH
VERSION:2.0
PRODID:-//Eventilla iCal Syndication//NONSGML Liana//EN
BEGIN:VEVENT
UID:nV4O7@eventilla.com
DTSTAMP:20240126T070000Z
DTSTART:20240126T070000Z
DTEND:20240126T083000Z
SUMMARY:Lausuntovalmistelu rakentamislain korjaussarjaan -webinaari
DESCRIPTION:Rakennustarkastusyhdistys RTY \nLausuntovalmistelu rakentamislain korjaussarjaan -webinaari\nPerjantaina 26.1.2024 klo 9.00 - 10.30Ympäristöministeriö pyytää lausuntoja rakentamislakiin esitetyistä muutoksista 5.3.2024 mennessä. Hallitusneuvos Kirsi Martinkauppi ympäristöministeriöstä esittelee ehdotettuja muutoksia taustoinen lausunnon laatimisen tueksi.Webinaarin lopuksi on aikaa kysymyksille ja keskustelulle.Tutustu lausuntopyyntöön »\nWebinaarin puheenjohtajana toimii rakennusvalvontapäällikkö\, RTY:n puheenjohtaja Risto Risto Levanto Vantaan rakennusvalvonnasta.\nTähän webinaariin voi jokaisesta kunnasta osallistua yksi RTY:n jäsen veloituksetta.Loput osallistujat samasta kunnasta hintaan 35 € /hlö. Osallistuminen on maksutonta myös RTY:n seniorijäsenille.\nLähetämme ilmoittautuneille osallistumislinkin päivää ennen tilaisuutta. Webinaarin jälkeen lähetämme tallenteen\, joka on katsottavissa jälkikäteen.\nTervetuloa mukaan!\n \nLisätietoja RTY Sara Keravuori 045 1230238 tai sara.keravuori@rty.inet.fi
LOCATION:Webinaari
URL:http://ssl.tapahtumakone.fi/event/nV4O7
END:VEVENT
END:VCALENDAR
