BEGIN:VCALENDAR
METHOD:PUBLISH
VERSION:2.0
PRODID:-//Eventilla iCal Syndication//NONSGML Liana//EN
BEGIN:VEVENT
UID:nVAWx@eventilla.com
DTSTAMP:20190926T210000Z
DTSTART:20190926T210000Z
DTEND:20190929T210000Z
SUMMARY:BMW Berlin Marathon 2019
DESCRIPTION:BMW Berlin Marathon 2019\nSupersuosittu Berliinin maraton - nopea ja upea reitti 29.9.2019\nTÄYNNÄ   \nPWT-Urheilumatkat on virallinen matkanjärjestäjä BMW-Berlin Marathonille! Meidän numerolappukiintiöstämme saat 100% varman osallistumisoikeuden tähän huikeaan tapahtumaan.\n\nBMW-Berlin Marathon on yksi maailman suurimmista ja suosituimmista maratoneista. Vuonna 2018 tapahtumaan osallistui yli 40 000 juoksijaa! Mutta älä huoli\, tehokkaan saksalaisen koneiston ansioista järjestelyt toimivat. Hienon tunnelman ja historiaa pursuavan reitin lisäksi maratonin reitti on myös erittäin nopea. Mm. voimassaoleva maailman-ennätys on juostu juuri Berliinissä.\nPWT tarjoaa tapahtumaan lähtijöille kaksi erilaista pakettia; La-Su vaihtoehdon niille jotka haluavat vain käydä juoksemassa maratonin\, sekä Pe-Ma vaihtoehdon niille\, jotka haluavat samalla matkalla myös tutustua Berliinin hienoihin nähtävyyksiin ja historiaan. Marathonin reittikarttaan voi tutustua tästä\nPaikkoja rajoitetusti!\n \nMATKAOHJELMAPerjantai 27.9.Lento Helsingistä Berliiniin ja siirtyminen hotellille. Numerolappujen nouto MaratonEXPOsta yhdessä tai omaan tahtiin. EXPOn yhteydessä on samalla isot urheilumessut. Iltapäivällä kaupunkikiertoajelu tai vapaata kaupunkiin tutustumista.\nLauantai 28.9.Aamiainen hotellilla. Mahdollisuus osallistua "Breakfast Run" tapahtumaan\, jossa lähtö klo 9.30 Charlottenburgin linnalta kohti vuoden 1936 Olympiastadionia. Matka n. 6km. Tapahtumassa hieno tunnelma - suosittelemme! PWT:n oma bussikuljetus hotellilta.Iltapäivällä vapaata tutustumista kaupungin nähtävyyksiin. Yhteinen pastabuffet hotellilla. La-Su matkalaisilla: aamulento Berliiniin\, siirtyminen hotellille ja yhteinen numeroiden haku.\nSunnuntai 29.9.Aikainen aamiainen hotellilla ja siirtyminen yhdessä lähtöalueelle Tiergarteniin. Maratonin lähtö klo 9 alkaen. Yhteinen illallinen hotellin lähistöllä (omakustanteinen).La-Su matkalaisilla: illalla siirtyminen lentokentälle. Huom! emme voi tässä vaiheessa taata myöhäistä hotellihuoneen luovutusta sunnuntaina. Peseytymismahdollisuus kyllä järjestyy ennen kotimatkaa.\nMaanantai 30.9.Aamiainen hotellilla ja vapaata tutustumista kaupunkiin.Siirtyminen lentoasemalle ja lento kohti Helsinkiä.\nLentoaikataulut: (Finnair\, Alustavat)Pe 27.9. HEL 11:25 - 12:25 BERMa 30.9. BER 17:50 - 20:40 HEL\nLa 28.9. HEL 07:45 - 08:45 BERSu 29.9. BER 19:15 - 22:05 HEL\nMahdollista lentää myös myös maakuntakentiltä. Kysy lisää!\nHOTELLI Hotel Mercure Chateau Berlin am Kurfursterdam****\, Sijainti viihtyisällä ja keskeisellä Kurfürstendammin alueella\, jossa paljon ravintoloita ja hyvät ostosmahdollisuudet. Maraton reitti kulkee hotellin vierestä n. 32km kohdalla. Huoneet on sisustettu tyylikkäästi ranskalaiseen Provence-tyyliin. Sauna ja pieni spa. Ilmainen wifi. \nMATKAN HINTA: Lauantai - Sunnuntai matka\, 765eur/hlöPerjantai - Maanantai matka\, alk. 895eur/hlö\nHintaan sisältyy:- lennot HEL-BER-HEL veroineen (sis. 1 laukku ruumaan)- majoitus aamiaisella kahden hengen huoneessa- lentokenttäkuljetukset Berliinissä- yhteinen käynti kisatoimistossa- yhteinen kulku lähtöpaikalle- maratonin osanottomaksu (sis. vuokra chip).- pastabuffet Lauantai-illalla- PWT:n matkanjohto Mukana seuraaville ei-juoksijoille 165eur alennus.\nLisämaksusta: - yhden hengen huone: 85eur/yö- lisäyöt (kysy tarjous)Mikäli ilmoittautuneiden joukosta ei löydy huonetoveria nais- tai miespaikan varanneelle\, joutuu matkustaja maksamaan 1hh lisämaksun.Huom! Kilpailunumeron osuudesta ei ole peruutusoikeutta\, vaan se on 100% sitova. Palauttamattomista vuokrachipeistä joudumme laskuttamaan 25eur/chip + laskutuslisä.\nTervetuloa mukaan suureen juoksujuhlaan!\nKysy lisää matkastainfo@pwt-urheilumatkat.fi / 045-6797940 (Simo)\n\nPidätämme oikeuden hinnanmuutoksiin valuuttakurssien merkittävästä muutoksesta tai muista meistä riippumattomista syistä johtuen. Emme vastaa tapahtuman mahdollisesta peruuttamisesta\, siirtämisestä (ajankohta tai paikka) tai tapahtumaohjeissa olleista virheistä tms. seikoista asiakkaalle mahdollisesti aiheutuvista haitoista tai kuluista Suosittelemme hankkimaan kattavan matkavakuutuksen.
LOCATION:Berliini, Saksa
URL:http://ssl.tapahtumakone.fi/pwtberlinmarathon
END:VEVENT
END:VCALENDAR
