BEGIN:VCALENDAR
METHOD:PUBLISH
VERSION:2.0
PRODID:-//Eventilla iCal Syndication//NONSGML Liana//EN
BEGIN:VEVENT
UID:nX3dO@eventilla.com
DTSTAMP:20220105T220000Z
DTSTART:20220105T220000Z
DTEND:20221230T220000Z
SUMMARY:Ensiapu 8h verkkokurssi (SFS6002)
DESCRIPTION:ENSIAPUKURSSI 8h (verkkokurssi)\nKoulutuksen sisältö:\n\nToiminta tapahtumapaikalla (liikenneonnettomuus\, sairauskohtaus) (Tilannearviosta ammattilaisten saapumiseen saakka)\nHätäensiapua vaativat auttamistilanteet: tajuton\, eloton (peruselvytys + sydäniskurin käyttö)\, vierasesine hengitysteissä\nVerenvuodot\, sokki ja erilaiset haavat\nSairauskohtaukset (oireet\, aiheuttajat ja ensiapu): rintakipu\, aivoverenkierron häiriö\, diabetes\, kouristuskohtaus\, astma\, allerginen reaktio\n\nEnsiapukurssi 8h täyttää myös sähköturvallisuusstandardin SFS 6002 vaatimukset sisältäen palovammat ja sähköiskujen aiheuttamat vammat sekä niiden ensiaputoimet.
LOCATION:Verkkokurssi
URL:http://ssl.tapahtumakone.fi/event/nX3dO
END:VEVENT
END:VCALENDAR
