BEGIN:VCALENDAR
METHOD:PUBLISH
VERSION:2.0
PRODID:-//Eventilla iCal Syndication//NONSGML Liana//EN
BEGIN:VEVENT
UID:ng7Rn@eventilla.com
DTSTAMP:20190731T210000Z
DTSTART:20190731T210000Z
DTEND:20190814T210000Z
SUMMARY:Tunturisuunnistus 2019
DESCRIPTION:Suomen Tunturisuunnistus 2019\nUpea matka Kilpisjärven maisemiin 1.-5.8.2019\nTervetuloa mukaan PWT:n unohtumattomalle matkalle Käsivarren Lappiin ensi elokuussa. Luvassa on kaksipäiväinen tunturisuunnistus Saanan jylhissä maisemissa ja edeltävänä päivänä on tarjolla "prologi" kolmen valtion rajapyykin tuntumassa. Tulossa on siis ainutlaatuinen kilpailu\, jossa suunnistetaan samassa kilpailussa kolmen valtion alueella! Prologin kisapaikalle kuljetaan pienellä laivalla poikki Kilpisjärven. Halutessasi voit myös patikoida takaisin Halki Mallan luonnonpuiston Kilpisjärvelle (n. 12km).\nMAJOITUSVAIHTOEHDOT:Kilpisjärven Retkeilykeskus Perinteinen majoituspaikka\, jossa 1-4 hengen huoneita. Aamiainen (ja muut ruokailut) tarjoillaan päärakennuksessa. Iltasauna lämpiää. Majapaikasta lähtee polku Saanan huipulle (n. 4km) sekä Laiva kolmen valtion rajapyykille lähtee majoituksen vierestä.\nHaltinmaa4-6 hengen mökkejä Kilpisjärven kaupan kupeessa. Mökeissä minikeittiö. Liisäksi muutama 1-2 hengen budget huone (kerrossänky).\nVoit rakentaa itsellesi mieluisan paketin ao. elementeistä:- majoitus (min. 3 yötä välillä To-Ma)- kuljetukset- prologi suunnistus\nTunturisuunnistuksen ilmoittautumiset ja lisätiedot löytyvät täältä.Perjantain prologi-suunnnistuksen & matkapakettien ilmoittautumiset tämän sivun alalaidasta.\nHINNAT:\nMAJOITUSa) Kilpisjärven Retkeilykeskus (sis. aamupala ja iltasauna)1h huone: 115eur/yö2h huone: 135eur/yö3h huone: 177eur/yö4h huone: 216eur/yö\nb) Haltinmaa (sis. aamupala\, liinavaatteet ja loppusiivous)4h mökki: 220eur/yö6h mökki: 330eur/yö\nKULJETUKSETa) Junalla tulijat: Kolarin asemalta To aamuna (juna saapuu 08:47\, ajoaika n. 4h) & Maanantaina Rovaniemen juna-asemalle (juna lähtee 21:15\, ajoaika n. 6h). Menomatkalla pidetään mahdollisesti pitempi ulkoilutauko Muonio/Pallastunturin alueella. Hinta 85-95eur/hlö b) Lentäen matkaavat: Kuljetukset Kittilän lentoasemalta (lento saapuu to 1.8. klo 13:15) ja paluu samalle kentälle (lento lähtee ma 19:35)Hinta 85-95eur/hlö Kuljetushintojen osalta pidätämme oikeuden tarkistaa hintaa\, mikäli henkilömäärä jää alle 30 hengen.Huom! Juna- ja lentoliput tulee jokaisen hankkia itse. Em. kuljetushinnat sisältävät vain bussikuljetuksen.\nTUNTURI-PROLOGI (päivitetty 31.7.)\nTulokset löytyvät tämän sivun alalaidasta.Suunnistuskisa Perjantaina 2.8. Kolmen valtion rajapyykin maisemissa. Vielä mahtuu mukaan!\nOsanottomaksut: 35eur (18v ja vanhemmat) 25eur (alle 18v) Osanottomaksu sisältää laivakuljetukset Kilpisjärven yli. Ilmoittautumiset viimeistään 27.7. Jälki-ilmoittautumiset (10euro lisämaksu puh:045-6797940  tai paikanpäällä).\nKartan mittakaava 1:7500\, käyräväli 5m. Kartta on muovikotelossa. Rastimääritteet on painettu karttaan.\nRatapituudet ja sarjat (päivitetty):\nH21/40/50 & D21/40/D50:   3\,7km\, 11 rastia H60/Kunto & D70/kunto:  2\,8km\, 8 rastiaOsa sarjoista on yhdistetty osanottajamäärän perusteella.\nKilpailussa käytetään emit-leimausta.Tapahtumassa on ns. itsepalvelu lähtö. Laivarannasta (Koltaloukta) n. 2km kävely hyvää polkua pitkin kohti kolmen valtion rajapyykkiä (Treriksröysa) jossa lähtö/maalipaikka. Lähtö/maalipaikalta on polkua pitkin n. 1km kolmen valtion rajapyykille. Alueella ei ole katoksia tai muitakaan palveluita.\nLaivojen aikataulu (olkaa rannassa 15min aikaisemmin): Kilpisjärvi                                Koltaloukta (Retkeilykeskuksen ranta)        (Ruotsin puolella) 13.00                      ->                  13.30 17.00                      <-                  16.30 Kipparilla on nimilista suunnistukseen osallistujista. Erillisiä matkalippuja ei ole.Mikäli matkaohjelmasi ei mahdollista näitä aikoja\, ole yhteydessä ja varaamme sinulle paikat joihinkin toisiin lähtöihin (ks. alla). Huom! Nämä täytyy sopia etukäteen. Paikkoja rajoitetusti.\nVaravuoroja 14.00                      ->                  14.30 18.00                       ->                  18.30 21.00                       <-                  20.30\nHUOM! Osanottomäärä rajoitettu 150 juoksijaan maankäyttörajoituksista johtuen. \nPalvelumaksu 15eur/varaus (ei koske tunturi-prologia)\nTervetuloa mukaan kokemaan suunnistuselämyksiä Käsivarren-Lapissa!\nKatso myös muita PWT:n suunnistusmatkoja täältä!\n\nPidätämme oikeuden hinnanmuutoksiin valuuttakurssien merkittävästä muutoksesta tai muista meistä riippumattomista syistä johtuen. Emme vastaa tapahtuman mahdollisesta peruuttamisesta\, siirtämisestä (ajankohta tai paikka) tai tapahtumaohjeissa olleista virheistä tms. seikoista asiakkaalle mahdollisesti aiheutuvista haitoista tai kuluista Suosittelemme hankkimaan kattavan matkavakuutuksen.\nTunturi prologi 2019 2.8.2019 - Kilpisjärvi\n\n \nRata A 3\,7km\, tilanne rasteilla\, rastivälien ajat\n 1. [050] 2. [052] 3. [054] 4. [055] 5. [056] 6. [058] 7. [060] 8. [063] 9. [064] 10. [065] 11. [067] Tulos\n 1. Pajunen Jere 4-02:00 2-04:08 2-06:43 2-08:31 2-10:10 2-12:10 2-14:42 2-16:12 1-18:05 1-19:03 1-20:37 20:37\n 4-02:00 2-02:08 4-02:35 2-01:48 1-01:39 2-02:00 1-02:32 2-01:30 1-01:53 1-00:58 1-01:34\n 2. Liukkonen Oskari 1-01:35 1-03:41 1-06:11 1-07:55 1-09:39 1-11:54 1-14:31 1-16:03 2-18:08 2-19:08 2-20:51 20:51\n 1-01:35 1-02:06 3-02:30 1-01:44 3-01:44 3-02:15 2-02:37 3-01:32 2-02:05 3-01:00 2-01:43\n 3. Liukkala Jaakko 6-02:12 6-05:18 5-08:17 5-11:06 5-12:59 5-14:48 3-17:57 3-19:36 3-21:54 3-22:57 3-24:49 24:49\n 6-02:12 6-03:06 6-02:59 14-02:49 6-01:53 1-01:49 3-03:09 5-01:39 5-02:18 4-01:03 3-01:52\n 4. väisänen paavo 3-01:56 4-04:56 3-07:20 4-10:00 4-11:50 4-14:05 4-19:15 5-20:55 5-23:26 5-24:38 4-26:41 26:41\n 3-01:56 4-03:00 1-02:24 11-02:40 4-01:50 3-02:15 18-05:10 6-01:40 8-02:31 5-01:12 4-02:03\n 5. mikko heikkilä 2-01:47 3-04:31 4-07:21 3-09:18 3-11:10 3-13:39 5-19:22 4-20:54 4-23:13 4-24:26 5-26:44 26:44\n 2-01:47 3-02:44 5-02:50 3-01:57 5-01:52 7-02:29 26-05:43 3-01:32 6-02:19 7-01:13 15-02:18\n 6. Ylitalo Aki 34-05:51 28-09:02 21-11:31 15-13:32 12-15:13 8-17:37 9-22:09 7-23:34 7-25:44 7-26:43 6-28:49 28:49\n 34-05:51 8-03:11 2-02:29 4-02:01 2-01:41 6-02:24 15-04:32 1-01:25 4-02:10 2-00:59 6-02:06\n 7. harila esko 5-02:07 8-05:54 7-09:00 11-12:43 9-14:45 6-17:15 6-21:07 6-23:21 6-25:30 6-26:42 7-28:51 28:51\n 5-02:07 21-03:47 7-03:06 28-03:43 7-02:02 8-02:30 5-03:52 14-02:14 3-02:09 5-01:12 8-02:09\n 8. leukkunen marko 12-02:42 10-06:10 12-10:06 8-12:30 10-14:55 10-17:53 7-22:00 9-24:15 8-26:50 8-28:18 8-30:26 30:26\n 12-02:42 15-03:28 19-03:56 5-02:24 17-02:25 16-02:58 7-04:07 15-02:15 9-02:35 16-01:28 7-02:08\n 9. soppela pete 10-02:36 12-06:19 11-09:59 10-12:39 11-14:56 9-17:48 8-22:07 8-24:11 9-26:52 8-28:18 9-30:33 30:33\n 10-02:36 19-03:43 14-03:40 11-02:40 13-02:17 12-02:52 12-04:19 11-02:04 10-02:41 15-01:26 13-02:15\n 10. lauri kleemola 7-02:16 5-05:16 6-08:49 6-11:25 6-13:56 7-17:27 10-22:13 10-24:18 10-27:17 10-28:36 10-30:48 30:48\n 7-02:16 4-03:00 12-03:33 9-02:36 20-02:31 20-03:31 16-04:46 12-02:05 16-02:59 11-01:19 11-02:12\n 11. Puikkonen Janika 19-02:59 19-06:41 15-10:27 12-13:13 15-15:50 15-18:46 13-23:03 11-25:06 11-27:53 11-29:08 11-31:25 31:25\n 19-02:59 18-03:42 15-03:46 13-02:46 22-02:37 15-02:56 11-04:17 10-02:03 14-02:47 9-01:15 14-02:17\n 12. jarkko kantola 29-03:39 27-08:36 22-11:55 22-15:16 22-17:31 18-19:53 14-23:13 14-25:33 12-28:00 12-29:28 12-31:32 31:32\n 29-03:39 30-04:57 8-03:19 23-03:21 10-02:15 5-02:22 4-03:20 19-02:20 7-02:27 16-01:28 5-02:04\n 13. Ruokolainen Miina 9-02:34 7-05:48 8-09:35 19-14:32 19-16:50 17-19:38 16-24:00 15-25:58 14-28:44 13-30:00 13-32:10 32:10\n 9-02:34 9-03:14 16-03:47 32-04:57 14-02:18 10-02:48 13-04:22 9-01:58 13-02:46 10-01:16 9-02:10\n 14. jokela jari 17-02:55 11-06:16 9-09:46 7-12:25 8-14:44 12-18:32 12-23:02 12-25:07 13-28:37 13-30:00 14-32:49 32:49\n 17-02:55 11-03:21 11-03:30 10-02:39 15-02:19 24-03:48 14-04:30 12-02:05 28-03:30 13-01:23 20-02:49\n 14. risto kuivalainen 18-02:57 14-06:24 14-10:26 14-13:26 14-15:46 13-18:45 11-22:59 13-25:31 14-28:44 15-30:08 14-32:49 32:49\n 18-02:57 14-03:27 21-04:02 15-03:00 16-02:20 17-02:59 9-04:14 26-02:32 23-03:13 14-01:24 18-02:41\n 16. Nokka Ilkka 15-02:49 9-05:58 10-09:48 13-13:24 13-15:39 13-18:45 17-24:45 17-26:33 16-29:17 16-30:31 16-32:50 32:50\n 15-02:49 7-03:09 18-03:50 26-03:36 10-02:15 18-03:06 27-06:00 7-01:48 12-02:44 8-01:14 16-02:19\n 17. Törmikoski Kai 14-02:48 17-06:37 18-10:45 16-13:54 17-16:43 16-19:37 15-23:42 16-26:05 17-29:24 17-30:53 17-34:06 34:06\n 14-02:48 22-03:49 22-04:08 17-03:09 27-02:49 14-02:54 6-04:05 21-02:23 25-03:19 19-01:29 30-03:13\n 18. markus vehkoja 33-05:34 31-10:01 29-13:29 28-16:30 25-18:45 22-21:36 19-25:51 19-28:56 19-31:59 19-33:43 18-35:54 35:54\n 33-05:34 26-04:27 10-03:28 16-03:01 10-02:15 11-02:51 10-04:15 33-03:05 20-03:03 28-01:44 10-02:11\n 19. Hyvönen Markku 11-02:41 20-06:49 20-11:08 21-14:49 21-17:29 21-20:38 18-25:49 18-28:16 18-31:32 18-33:25 19-36:32 36:32\n 11-02:41 25-04:08 26-04:19 27-03:41 23-02:40 19-03:09 19-05:11 23-02:27 24-03:16 31-01:53 28-03:07\n 20. maiju kohonen 16-02:53 12-06:19 16-10:29 30-17:10 29-19:43 25-22:36 20-26:48 20-29:14 20-32:16 20-33:49 20-36:39 36:39\n 16-02:53 13-03:26 23-04:10 34-06:41 21-02:33 13-02:53 8-04:12 22-02:26 19-03:02 23-01:33 21-02:50\n 21. Ruokolainen Mikko 8-02:24 30-09:52 31-13:50 26-16:15 23-18:41 26-22:40 21-28:00 21-30:18 21-33:00 21-34:22 21-36:47 36:47\n 8-02:24 34-07:28 20-03:58 7-02:25 18-02:26 25-03:59 21-05:20 16-02:18 11-02:42 12-01:22 17-02:25\n 22. Lindberg Lauri 35-06:21 33-10:05 30-13:32 29-17:05 27-19:14 23-21:54 22-28:36 22-30:28 22-33:25 22-35:00 22-37:44 37:44\n 35-06:21 20-03:44 9-03:27 25-03:33 8-02:09 9-02:40 29-06:42 8-01:52 15-02:57 24-01:35 19-02:44\n 23. Ajalin Riikka 13-02:46 15-06:27 12-10:06 8-12:30 7-14:41 11-18:15 23-28:59 23-31:20 23-34:25 23-35:54 23-38:08 38:08\n 13-02:46 16-03:41 13-03:39 5-02:24 9-02:11 21-03:34 35-10:44 20-02:21 22-03:05 19-01:29 12-02:14\n 24. Hietala Miina 19-02:59 23-07:38 26-12:41 25-16:00 26-19:02 27-24:06 24-29:29 24-32:05 24-35:04 24-36:47 24-39:38 39:38\n 19-02:59 27-04:39 31-05:03 21-03:19 28-03:02 30-05:04 22-05:23 28-02:36 16-02:59 27-01:43 22-02:51\n 25. seppä anna 22-03:14 24-07:54 27-12:57 26-16:15 28-19:20 28-24:31 25-29:47 25-32:18 25-35:18 25-37:00 25-39:57 39:57\n 22-03:14 28-04:40 31-05:03 19-03:18 29-03:05 31-05:11 20-05:16 25-02:31 18-03:00 26-01:42 25-02:57\n 26. Varpula Marjut 21-03:07 16-06:29 17-10:42 17-14:04 16-16:30 19-20:17 28-30:27 26-32:46 26-36:18 26-37:49 26-40:40 40:40\n 21-03:07 12-03:22 24-04:13 24-03:22 18-02:26 23-03:47 34-10:10 17-02:19 29-03:32 22-01:31 22-02:51\n 27. Remahl Virpi 24-03:18 18-06:38 19-10:52 18-14:06 18-16:46 20-20:26 27-30:18 27-32:53 27-36:27 27-37:57 27-41:04 41:04\n 24-03:18 10-03:20 25-04:14 18-03:14 23-02:40 22-03:40 33-09:52 27-02:35 30-03:34 21-01:30 28-03:07\n 28. Rosenblad Kalle 32-04:59 31-10:01 33-14:48 32-19:34 31-22:16 31-26:21 29-31:28 29-33:57 28-37:00 28-38:40 28-42:17 42:17\n 32-04:59 31-05:02 29-04:47 31-04:46 26-02:42 26-04:05 17-05:07 24-02:29 20-03:03 25-01:40 33-03:37\n 29. vesterinen esa 25-03:23 21-07:28 25-12:14 24-15:32 24-18:43 29-24:32 26-30:00 28-32:58 29-37:16 29-39:19 29-42:19 42:19\n 25-03:23 24-04:05 28-04:46 19-03:18 30-03:11 34-05:49 24-05:28 32-02:58 33-04:18 33-02:03 26-03:00\n 30. Kleemola Jari 31-04:35 26-08:16 23-12:05 20-14:35 20-17:15 24-22:00 30-31:48 30-34:41 30-39:06 30-40:34 30-44:09 44:09\n 31-04:35 16-03:41 17-03:49 8-02:30 23-02:40 28-04:45 32-09:48 31-02:53 35-04:25 16-01:28 32-03:35\n 31. Törmikoski Tarja 30-04:04 29-09:18 32-14:40 33-19:51 33-23:18 32-27:37 32-33:41 31-36:32 31-40:19 31-42:09 31-45:51 45:51\n 30-04:04 32-05:14 35-05:22 33-05:11 32-03:27 27-04:19 28-06:04 30-02:51 31-03:47 30-01:50 34-03:42\n 32. hämäläinen juhani 23-03:15 25-08:00 28-13:15 31-17:18 30-20:48 30-26:17 31-31:58 32-39:33 32-43:54 32-45:55 32-49:18 49:18\n 23-03:15 29-04:45 34-05:15 29-04:03 33-03:30 33-05:29 25-05:41 35-07:35 34-04:21 32-02:01 31-03:23\n 33. mahlamäki saara 25-03:23 34-10:31 34-15:29 34-22:53 34-26:17 33-31:40 33-38:38 33-41:14 33-44:38 33-47:22 33-50:24 50:24\n 25-03:23 33-07:08 30-04:58 35-07:24 31-03:24 32-05:23 30-06:58 28-02:36 26-03:24 34-02:44 27-03:02\n 34. Autti Marja-Liisa 28-03:37 22-07:30 24-12:08 23-15:27 31-22:16 34-34:30 34-43:42 34-46:01 34-49:29 34-52:30 34-55:25 55:25\n 28-03:37 23-03:53 27-04:38 21-03:19 35-06:49 35-12:14 31-09:12 17-02:19 27-03:28 35-03:01 24-02:55\n 35. Linko Rita 27-03:28 35-17:35 35-22:39 35-26:46 35-33:34 35-38:34 35-44:00 35-47:26 35-51:28 35-53:14 35-57:45 57:45\n 27-03:28 35-14:07 33-05:04 30-04:07 34-06:48 29-05:00 23-05:26 34-03:26 32-04:02 29-01:46 35-04:31\n\nRata B 2\,8km\, tilanne rasteilla\, rastivälien ajat\n 1. [067] 2. [075] 3. [056] 4. [058] 5. [060] 6. [63.64] 7. [065] Tulos\n\nRata C\, tilanne rasteilla\, rastivälien ajat\n 1. [067] 2. [075] 3. [056] 4. [058] 5. [060] 6. [063] 7. [064] 8. [065] 9. [076] Tulos\n 1. Aasla Hannu 2-00:52 1-04:54 1-06:14 1-09:19 1-13:45 1-16:08 1-19:13 1-20:37 1-24:05 24:05\n 2-00:52 1-04:02 1-01:20 1-03:05 1-04:26 1-02:23 2-03:05 2-01:24 4-03:28\n 2. jaakko senttula 3-00:59 4-05:30 4-07:53 2-11:56 3-22:03 4-25:21 3-28:26 3-29:43 2-32:29 32:29\n 3-00:59 4-04:31 6-02:23 2-04:03 14-10:07 6-03:18 2-03:05 1-01:17 1-02:46\n 3. anssi sepponen 4-01:00 3-05:22 3-07:28 3-12:40 4-22:14 3-24:41 2-28:03 2-29:30 3-32:40 32:40\n 4-01:00 3-04:22 2-02:06 5-05:12 9-09:34 2-02:27 4-03:22 3-01:27 3-03:10\n 4. sakari jokinen 1-00:46 2-05:05 2-07:16 4-12:48 2-21:03 2-24:27 4-28:30 4-30:45 4-34:56 34:56\n 1-00:46 2-04:19 3-02:11 6-05:32 5-08:15 8-03:24 6-04:03 7-02:15 5-04:11\n 5. mervi heinaro 7-01:02 5-06:36 5-09:13 10-16:53 7-24:09 7-27:28 6-31:13 5-33:26 5-38:19 38:19\n 7-01:02 5-05:34 10-02:37 14-07:40 3-07:16 7-03:19 5-03:45 6-02:13 11-04:53\n 6. hanna mäkimantila 11-01:21 9-07:46 9-10:18 8-15:29 6-22:43 5-26:08 5-31:03 5-33:26 6-38:46 38:46\n 11-01:21 10-06:25 9-02:32 4-05:11 2-07:14 9-03:25 10-04:55 9-02:23 14-05:20\n 7. sirpa lindberg 9-01:13 6-07:18 7-09:43 5-14:53 5-22:35 6-26:48 7-31:59 7-34:05 7-38:53 38:53\n 9-01:13 6-06:05 8-02:25 3-05:10 4-07:42 12-04:13 11-05:11 5-02:06 10-04:48\n 8. honkimaa ari 5-01:01 11-08:00 10-10:24 9-16:49 10-26:42 8-30:54 8-36:16 8-39:09 8-44:07 44:07\n 5-01:01 11-06:59 7-02:24 9-06:25 10-09:53 11-04:12 13-05:22 12-02:53 12-04:58\n 9. honkimaa outi 13-01:33 10-07:47 11-10:44 11-18:21 11-27:36 9-31:12 9-36:33 9-39:16 9-44:21 44:21\n 13-01:33 7-06:14 11-02:57 13-07:37 7-09:15 10-03:36 12-05:21 11-02:43 13-05:05\n 10. elina jokela 8-01:05 7-07:23 6-09:34 6-15:18 8-25:11 10-33:41 10-40:29 10-43:37 10-48:17 48:17\n 8-01:05 8-06:18 3-02:11 8-05:44 10-09:53 18-08:30 15-06:48 15-03:08 7-04:40\n 11. marja jokela 9-01:13 8-07:36 8-09:48 7-15:26 9-25:19 11-33:51 11-40:38 11-43:44 11-48:26 48:26\n 9-01:13 9-06:23 5-02:12 7-05:38 10-09:53 19-08:32 14-06:47 14-03:06 8-04:42\n 12. Sippola Asko 20-02:41 16-12:56 17-18:44 19-27:57 18-39:21 18-42:06 14-44:27 12-46:17 12-49:26 49:26\n 20-02:41 16-10:15 20-05:48 17-09:13 17-11:24 3-02:45 1-02:21 4-01:50 2-03:09\n 13. Nokka Katja 12-01:28 17-13:53 16-17:04 14-25:07 16-36:33 13-39:48 12-44:15 13-46:34 13-50:52 50:52\n 12-01:28 17-12:25 12-03:11 16-08:03 18-11:26 5-03:15 8-04:27 8-02:19 6-04:18\n 14. susanna maunu 17-02:03 12-09:48 12-14:23 12-21:22 12-30:45 12-39:41 13-44:17 14-46:41 14-51:23 51:23\n 17-02:03 12-07:45 16-04:35 10-06:59 8-09:23 20-08:56 9-04:36 10-02:24 8-04:42\n 15. Virtanen Tiina 5-01:01 20-20:19 20-23:30 20-30:31 17-38:51 17-42:01 15-46:27 15-50:15 15-55:50 55:50\n 5-01:01 20-19:18 12-03:11 11-07:01 6-08:20 4-03:10 7-04:26 18-03:48 15-05:35\n 16. vesterinen veeti 15-01:42 13-10:06 13-14:55 16-25:38 13-35:33 14-41:13 16-48:45 16-51:53 16-58:47 58:47\n 15-01:42 13-08:24 17-04:49 20-10:43 13-09:55 16-05:40 18-07:32 15-03:08 17-06:54\n 17. vesterinen vilma 15-01:42 14-10:07 15-15:17 13-25:04 14-36:15 16-41:58 17-48:47 18-52:10 17-58:50 58:50\n 15-01:42 14-08:25 19-05:10 18-09:47 16-11:11 17-05:43 16-06:49 17-03:23 16-06:40\n 18. vesterinrn kirsi 14-01:40 15-10:21 14-15:14 15-25:19 15-36:25 15-41:27 18-48:57 17-52:02 18-59:04 59:04\n 14-01:40 15-08:41 18-04:53 19-10:05 15-11:06 15-05:02 17-07:30 13-03:05 18-07:02\n 19. reinikainen pirjo 19-02:10 19-15:08 19-19:12 18-26:45 19-41:39 19-46:27 20-54:54 20-1:00:43 19-1:08:45 1:08:45\n 19-02:10 19-12:58 15-04:04 12-07:33 19-14:54 14-04:48 20-08:27 20-05:49 19-08:02\n 20. lindsten ulla 18-02:09 18-15:05 18-18:55 17-26:44 20-41:56 20-46:33 19-54:53 19-1:00:32 20-1:08:49 1:08:49\n 18-02:09 18-12:56 14-03:50 15-07:49 20-15:12 13-04:37 19-08:20 19-05:39 20-08:17\n\nRata D\, tilanne rasteilla\, rastivälien ajat\n 1. [075] 2. [056] 3. [058] 4. [060] 5. [063] 6. [064] 7. [065] 8. [067] 9. [076] Tulos\n 1. Kuosa Harri 1-07:09 1-10:04 1-17:01 1-24:37 1-27:55 1-32:25 1-34:29 1-38:27 1-39:35 39:35\n 1-07:09 1-02:55 1-06:57 1-07:36 1-03:18 1-04:30 1-02:04 1-03:58 1-01:08\n\nRata E\, tilanne rasteilla\, rastivälien ajat\n 1. [067] 2. [075] 3. [056] 4. [058] 5. [060] 6. [063] 7. [065] 8. [076] Tulos\n 1. Tuomola Touko 1-01:02 1-06:42 1-08:10 1-13:47 1-20:48 1-23:11 1-28:09 1-32:09 32:09\n 1-01:02 1-05:40 1-01:28 1-05:37 1-07:01 1-02:23 1-04:58 1-04:00\n\nRata F\, tilanne rasteilla\, rastivälien ajat\n 1. [067] 2. [075] 3. [056] 4. [058] 5. [064] 6. [065] Tulos\n 1. sippola jaana 1-02:37 1-12:48 1-18:22 1-27:47 1-37:41 1-42:23 42:23\n 1-02:37 1-10:11 1-05:34 1-09:25 1-09:54 1-04:42 
LOCATION:Kilpisjärvi
URL:http://ssl.tapahtumakone.fi/pwt_tunturisuunnnistus2019
END:VEVENT
END:VCALENDAR
