BEGIN:VCALENDAR
METHOD:PUBLISH
VERSION:2.0
PRODID:-//Eventilla iCal Syndication//NONSGML Liana//EN
BEGIN:VEVENT
UID:npJXO@eventilla.com
DTSTAMP:20200902T050000Z
DTSTART:20200902T050000Z
DTEND:20200902T120000Z
SUMMARY:Ennakoiva-ajo (Oulu)
DESCRIPTION:REAK®\, eli ennakoivan ajon kurssi\, on tarkoitettu raskaiden ajoneuvojen kuljettajille. Ajaessaan liikenteessä raskaalla ajoneuvolla kuljettajan on tunnistettava paitsi itseensä ja ajoneuvoonsa liittyvät riskit myös muihin kuljettajiin ja heidän ajoneuvoihinsa\, kevyeen liikenteeseen\, tieliikenneympäristöön ja -oloihin sekä työtehtäväänsä liittyvät riskit.\nEnnakoivan ajon kurssin tavoitteena on antaa kuljettajille valmiuksia\n\nvälttää vaaratilanteisiin joutumista; ennakointitaitoa parannetaan kehittämällä kuljettajien kykyä tunnistaa riskitekijöitä ja ottaa ne huomioon omassa toiminnassaan\ntoimia myös kriittisissä tilanteissa ja ennakointimahdollisuuksien äärirajoilla\ntoimia siten\, että onnettomuuteen jouduttaessa sen henkilö- ja aineelliset vahingot olisivat mahdollisimman pienet.\n\nOpetettavia sisältöjä ei tarjota valmiina omaksuttavina tosiasioina\, vaan pikemminkin luonteenomaista opetukselle on se\, että yhdessä kouluttajan kanssa etsitään ratkaisuja erilaisiin ongelmiin.\nREAK®-kursseja järjestävät Liikenneturvan koulutuksen saaneet kouluttajat.\nKoulutuksesta on mahdollista saada kuorma- ja linja-auton kuljettajan ammattipätevyysmerkintä.
LOCATION:FAST Oy\, Kiilletie 1\, 90620\, Oulu\, Suomi
URL:http://ssl.tapahtumakone.fi/event/npJXO
END:VEVENT
END:VCALENDAR
