BEGIN:VCALENDAR
METHOD:PUBLISH
VERSION:2.0
PRODID:-//Eventilla iCal Syndication//NONSGML Liana//EN
BEGIN:VEVENT
UID:nqJay@eventilla.com
DTSTAMP:20200611T210000Z
DTSTART:20200611T210000Z
DTEND:20200613T210000Z
SUMMARY:Jukola 2020 - junamatka
DESCRIPTION:JUKOLA 2020 Rovaniemi - junamatkat\nJukolaan mukavasti raiteita pitkin - pirteänä perillä!\nNapapiiri Jukola on siirretty vuoteen 2021 - palataan Jukola-juniin syksyllä.\nOlemme varanneet suunnistajille ryhmäkiintiöitä ao. junamatkoille (HEL=Helsinki\, TMP=Tampere\, TKU=Turku\, RVN=Rovaniemi):HUOM! VR vahvistaa tarkat junien aikataulut talvella 2020\, tässä alla alustavat aikataulut.\nVR vahvisti 17.3. liikennöintiaikataulunsa alkukesän osalta. Ratatöistä johtuen muutoksia on jonkin verran tullut. Tässä vahvistetut ajat:\npe 12.6.2020 \nIC265: HEL 1849 - 0713 RVN (makuupaikat) =>  HEL 1849 – 0738 RVN (täynnä) IC265: TMP 2211 - 0713 RVN (makuupaikat)  => TMP 2305 – 0738 RVN (täynnä) IC931+IC265: TKU 2005 - 0713 RVN (makuupaikat TMP-RVN)  => TKU 2005 – 0738 RVN (täynnä) IC273: HEL 2313 - 1105 RVN (makuupaikat) => HEL 2028 – 1043 RVN (jonotuslista auki)IC933: TKU 2125 - 1105 RVN (makuupaikat) =>  IC933 + IC273 TKU 2125  - 1043 RVN (vaihto TMP)\, täynnä\nSu 14.6.2020   \nIC24: RVN 0927 - 1735 HEL = Uusi vaihtoehto! (saapuu TMP1556)RVN 1206 – 2035 HEL (istumapaikat) => IC416+S56: RVN 1310 - 2235 HEL (vaihto Oulu) RVN 1206 - 1858 TMP (istumapaikat) => IC416+S56: RVN 1310 - 2056 TMP (vaihto Oulu) RVN 1206 - 2055 TKU (istumapaikat) =>  IC416+S56+IC934 RVN 1310 – 2250 TKU (täynnä)RVN 1518 - 2335 HEL (istumapaikat) => IC710+IC828+bussi+S188: RVN 1535 - 0124+1 HEL RVN 1518 - 2158 TMP (istumapaikat) => IC710+IC828+bussi:RVN 1535 – 2320 TMP  IC266: RVN 1800 - 0624 HEL (makuupaikat) => IC266: RVN 1905 – 0945 HEL IC266: RVN 1800 - 0733 TKU (makuupaikat) => IC266+IC904: RVN 1905 – 0733 TKU (täynnä) Klo 15.35 lähtevällä yhteydellä on junan vaihto Oulussa\, Seinäjoella ja Tampereella. Seinäjoki – Tampere väli operoidaan VR:n linja-autoilla. Huom! Täynnä= PWT:n kiintiö on täynnä. Lippuja voi saada vielä VR:n omasta myynnistä.\nHinnat: HEL-RVN\, menopaluu 150eur/hlö (sama hinta vaikka paluu yöjunalla) TKU-RVN\, menopaluu 150eur/hlö (sama hinta vaikka paluu yöjunalla) TMP- RVN\, menopaluu 140eur/hlö HEL-RVN tai RVN-HEL\, oneway 80eur/hlö (yöjuna) & 75eur/hlö (päiväjuna) TKU-RVN tai RVN-TKU \, oneway 80eur/hlö (yöjuna) & 75eur/hlö (päiväjuna) TMP- RVN tai RVN-TMP\, oneway 75eur/hlö (yöjuna) & 70eur/hlö (päiväjuna) Varausmaksu 25eur/hlöPalvelumaksu 15eur/varaus\, veloitetaan loppumaksun yhteydessä. (kannattaa varata samalla kertaa useammalle henkilölle)\nVaratut liput tulee maksaa 10.4. mennessä. (Tähän tulossa tod.näk. pidennystä 18.4. asti. VR alustavasti luvannut).\nYöjunassa hintaan sisältyy makuupaikka 2hlön alakerran hytissä. Yöjunassa on tarjolla myös yläkerroksen 2hlön hyttejä\, joissa on oma wc ja suihku. Lisähinta 5eur/hlö/suunta. Saatavana rajoitetusti. Päiväjunissa hintaan kuuluu varattu istumapaikka.\nKuljetukset rautatieasemalta Jukolan kisakeskukseen (ja takaisin) hoituvat Jukola järjestäjien toimesta. Näistä tulee lisäinfoa Jukolan sivuille. \nVaraamme oikeuden aikataulu-\, hinnan- sekä maksuaikataulumuutoksiin meistä riippumattomista syistä (lähinnä VR).\nVarausmaksu ja maksetut liput ovat ns. non-refundable\, eli ei takaisinmaksua peruutustapauksissa. Huom! Matkustajan nimen voi kuitenkin vaihtaa kuluitta 8.6. klo 12 asti. \nJos haluat varata yli 20hlön ryhmän ole yhteydessä info@pwt.fi tai 045-6797940 (Simo)
LOCATION:Rovaniemi
URL:http://ssl.tapahtumakone.fi/pwtjukola2020
END:VEVENT
END:VCALENDAR
