BEGIN:VCALENDAR
METHOD:PUBLISH
VERSION:2.0
PRODID:-//Eventilla iCal Syndication//NONSGML Liana//EN
BEGIN:VEVENT
UID:nvega@eventilla.com
DTSTAMP:20211105T220000Z
DTSTART:20211105T220000Z
DTEND:20211204T220000Z
SUMMARY:Falling Through The Disappearing Light
DESCRIPTION:HUOM! Suuren kysynnÃ¤n vuoksi olemme lisÃ¤nneet ohjelmaan vielÃ¤ kaksi nÃ¤ytÃ¶stÃ¤\, 4.12 ja 5.12.\nTanssitaiteilija Maria Nurmelan kokoaman kansainvÃ¤lisen tyÃ¶ryhmÃ¤n herkkÃ¤ nykytanssiteos Falling Through The Disappearing Light luo monimerkityksellisen kokemuksen Rettigin vanhaan tupakkatehtaaseen. Pieni TulitikkutyttÃ¶ -sadusta inspiroitunut nykytanssiteos tarjoaa katsojalle mahdollisuuden elÃ¤mÃ¤n hetkellisyyden tarkasteluun nykytanssin keinoin.\n\nFalling Through The Disappearing Light kÃ¤sittelee teemoja elÃ¤mÃ¤n ja kuoleman ainaisesta lÃ¤snÃ¤olosta\, epÃ¤varmuudesta\, kÃ¶yhyydestÃ¤\, illuusioista ja unimaailmoista. Rettigin vanhaan tupakkatehtaaseen muotoutuvassa unenomaisessa vÃ¤litilassa viisi esiintyjÃ¤Ã¤ nousee vuorollaan esiin\, katoavat vÃ¤lillÃ¤ varjoihin kunnes tulevat taas nÃ¤kyviksi hÃ¤ilyvÃ¤ssÃ¤ maailmassa.Â \nH.C. Andersenin Pienen TulitikkutytÃ¶n kohtalo piirtyy katsojalle nÃ¤kyvÃ¤ksi monisyisenÃ¤ miljÃ¶Ã¶ssÃ¤\, jossa valon hohde voi olla perÃ¤isin ihmiselÃ¤mÃ¤n ohikiitÃ¤vÃ¤stÃ¤ olemuksesta\, jossa hiljaisuus tÃ¤yttyy edellÃ¤ kulkeneiden Ã¤Ã¤nistÃ¤ ja\, jossa toivo hiipuu hitaammin kuin tulitikun liekki. MitÃ¤ sitten tapahtuu\, kun viimeinenkin valo on kadonnut?\n\nTeoksen toteuttaa ABOA-apurahalla vuonna 2020 palkitun tanssitaiteilija Maria Nurmelan kokoama kansainvÃ¤linen tyÃ¶ryhmÃ¤ taiteilijoita niin Suomesta\, Saksasta\, Uudesta-Seelannista kuin Australiasta.\nKonsepti\, koreografia ja ohjaus: Maria NurmelaEsitys\, tanssi ja co-koreografia: Jonna Aaltonen\, Janne Aspvik\, Georgie Goater\, Maria Nurmela\, Gesa PiperÂ SÃ¤vellys ja Ã¤Ã¤nisuunnittelu: Jane Sheldon & Jaakko VastapuuPukusuunnittelu ja visuaalisuus: Heidi WikarValo- ja tilakonsultointi: Kalle RopponenEsitystila: Ã\nbo Akademi Stiftelse\, Rettigin Vanha TupakkatehdasTuotanto: Maria Nurmela\nTukijat LÃ¤ntinen tanssin aluekeskus\, Ã\nbo Akademi Stiftelse\, Turun TeatterisÃ¤Ã¤tiÃ¶ ry\, Svenska Kulturfonden\, Suomen Kulttuurirahaston Varsinais-Suomen rahasto\, Taike / Varsinais-Suomi\, Jenni ja Antti Wihurin sÃ¤Ã¤tiÃ¶.Â TyÃ¶skentelyresidenssi: Tanssiteatteri Hurjaruuth.Erityiskiitokset: Mika Soinio / Ã\nbo Akademi Stiftelse\, Sanna Meska / LTA\,Â Liisa Risu / Tanssiteatteri HurjaruuthTeoksessa vierailee Raija Lehmussaaren balettikoulun oppilaita.\nLipun hinta 27â‚¬/17â‚¬.\nEsityksetÂ \nEnsi ilta la 6.11.2021Â  klo 19.00Â \nMuut esityksetÂ \nsu 7.11.2021 klo 16.00Â \nti 9.11.2021 klo 19.00Â \nke 10.11.2021 klo 19.00Â \nto 11.11.2021 klo 19.00Â \nla 4.12.2021 klo 19.00 --> Osta lippu\nsu 5.12.2021 klo 18.00 --> Osta lippu
LOCATION:Rettigin Vanha Tupakkatehdas\, Nunnankatu 4\, 20100\, Turku\,
 Suomi
URL:http://ssl.tapahtumakone.fi/fallingthroughthedisappearinglight
END:VEVENT
END:VCALENDAR
