BEGIN:VCALENDAR
METHOD:PUBLISH
VERSION:2.0
PRODID:-//Eventilla iCal Syndication//NONSGML Liana//EN
BEGIN:VEVENT
UID:x3l7p@eventilla.com
DTSTAMP:20220125T070000Z
DTSTART:20220125T070000Z
DTEND:20220125T093000Z
SUMMARY:Rakentamisen Topten-käytännöt: Rakennuksen korjaus- ja muutostyöt (2. osa)
DESCRIPTION:RAKENNUSTARKASTUSYHDISTYS RTY JA RAKENTAMISEN TOPTEN-VERKOSTO\nRakentamisen Topten-käytännöt -webinaari: Rakennuksen korjaus- ja muutostyöt (2. osa)\nRakennustarkastajille\, suunnittelijoille\, työmaavastaaville\, urakoitsijoille ja rakennusalan ammattilaisille suunnattu koulutus.\nTiistai 25.1.2022 klo 9.00 - 11.30\nLähetämme ilmoittautuneille osallistumislinkin päivää ennen tilaisuutta.\nOHJELMA\nAvaus- Tuire Sulkava\, tarkastusinsinööri\, Vantaan rakennusvalvonta\, Topten Korrak pj.\nEnnakkoneuvottelun asiakirja- Anneli Paakkari\, tarkastusarkkitehti\, Oulun Rakennusvalvonta\nKäyttötarkoituksen muutos\, vapaa-ajan asunto jatkuvaan asumiseen- Paula Mäenpää\, johtava rakennustarkastaja\, Lohjan rakennusvalvonta\nTerveellisyyslomake- Timo Turunen\, johtava asiantuntija\, Ramboll Finland Oy\nSelvitys rakennuksen ääniympäristöstä- Matias Remes\, suunnittelupäällikkö\, Helimäki Akustikot Oy (ohjelmamuutos)\nLoppukeskusteluTuire Sulkava\, tarkastusinsinööri\, Vantaan rakennusvalvonta\, Topten Korrak pj.\nWebinaarin hinta on 70 € (alv. 0 %) / henkilö.Jos osallistujia on yli 15 henkeä samasta kunnasta\, osallistuvat loput ilmaiseksi.\nTervetuloa mukaan!\nRakennuksen korjaus- ja muutostyöt -webinaarin ensimmäinen  osa järjestetään tiistaina 18.1.2022.Siihen pääset ilmoittautumaan tästä »\n 
LOCATION:Webinaari
URL:http://ssl.tapahtumakone.fi/event/x3l7p
END:VEVENT
END:VCALENDAR
