BEGIN:VCALENDAR
METHOD:PUBLISH
VERSION:2.0
PRODID:-//Eventilla iCal Syndication//NONSGML Liana//EN
BEGIN:VEVENT
UID:x55R8@eventilla.com
DTSTAMP:20190911T210000Z
DTSTART:20190911T210000Z
DTEND:20190926T205900Z
SUMMARY:Vaunupaikkahaku talvi 2019-2020
DESCRIPTION:Vaunupaikkahaku talvisäilytykseen talvelle 2019-2020\nVaunupaikkaa haetaan pisteytyslomakkeella\, johon pääset alta kohdasta "ilmoittaudu". Talvipaikkoja pakkaushallissa on 9kpl\, ja ne kaikki jaetaan pisteytyksen perusteella.\nVaunupaikkamaksu talvelle on 200€.\nVaunupaikkahakemus tehdään lomakkeella\, jossa jaetaan pisteitä hyppy-\, koulutus- ja kerhoaktiivisuudesta. Jokaisen vaunukuntaan kuuluvan henkilön on täytettävä oma lomake. Hakea voi ainoastaan tällä sähköisellä lomakkeella. Lomake on avoinna ja hakuaikaa on torstaihin 26.9. saakka.\nKaikkien vaunupaikkaa hakevien täytyy olla SdF:n jäseniä. SdF:n jäsenmaksu kaudelle 2019 tulee olla maksettuna hakuvaiheessa. Lisäksi jokaisen vaunukuntaan kuuluvan tulee olla maksanut kaikki vanhat laskunsa kerholle.\nJakoperusteet\nJos hakijoiden määrä on suurempi kuin jaossa olevien vaunupaikkojen\, kaikki 9 paikkaa jaetaan pisteytyksen perusteella 27.9.\nVaunupaikan lunastaminen\nVaunu on tuotava pakkaushalliin 19.-20.10. viikonloppuna. Mikäli vaunun omistaja on itse estynyt siirtämään vaunua\, siitä on ilmoitettava Lassille etukäteen (lassi@skydivefinland.fi). Kaikista niistä vaunuista\, jotka siirretään omistajan puolesta\, veloitetaan lisäksi siirtomaksu 50€. Vaunupaikka ja mahdolliset siirtomaksut on maksettava lähetetyn laskun eräpäivään mennessä.\nMyöhässä tulleet hakemukset\nMyöhässä tulleet hakemukset eivät osallistu pisteytykseen. Lomake sulkeutuu 26.9. klo 23.59.\n 
LOCATION:Skydive Finland ry\, Lentoportintie 85\, 45410\, Kouvola
URL:http://ssl.tapahtumakone.fi/event/x55R8
END:VEVENT
END:VCALENDAR
