BEGIN:VCALENDAR
METHOD:PUBLISH
VERSION:2.0
PRODID:-//Eventilla iCal Syndication//NONSGML Liana//EN
BEGIN:VEVENT
UID:xEqql@eventilla.com
DTSTAMP:20220323T100000Z
DTSTART:20220323T100000Z
DTEND:20220325T103000Z
SUMMARY:Etäosallistuminen Rakennustarkastuspäivät 2022
DESCRIPTION:Etäosallistuminen RTY Rakennustarkastuspäiville Lappeenrannassa 23. - 25.3.2022\nTervetuloa seuraamaan Rakennustarkastuspäiviä etänä!\nLähetämme ilmoittautuneille osallistumislinkin sähköpostiin tiistaina 22.3.2022.\nTEEMANA TYÖHYVINVOINTI SEKÄ ILMASTONMUUTOS\nOhjelmassa käsitellään monipuolisesti oman työkyvyn ylläpitämistä. Ilmastonmuutosteemassa tarkastellaan mm. ilmaston lämpenemistä ja rakenteiden riskejä\, ylilämpoä sekä hiilijalanjälkilaskentaa.\nTuttuun tapaan voit lähettää etukäteen kysymyksiä lakiklinikan vastattavaksi 16.3. mennessä sara.keravuori@rty.inet.fi.\nJuhlimme Lappeenrannassa RTY:n 60-vuotisjuhlavuotta!\nTutustu ohjelmaan » \nOsallistumismaksu (alv 0 %):RTY:n jäsenet sekä lautakuntien jäsenet 630 euroaEi jäsenet 680 euroaEläkeläisjäsenille tarjoushinta 50 euroa.\n \nRTY-päiville on mahdollista osallistua myös paikan päällä Holiday Club Saimaalla. Ilmoittaudu paikan päälle Lappeenrantaan tästä » \n 
LOCATION:Suomi
URL:http://ssl.tapahtumakone.fi/event/xEqql
END:VEVENT
END:VCALENDAR
