BEGIN:VCALENDAR
METHOD:PUBLISH
VERSION:2.0
PRODID:-//Eventilla iCal Syndication//NONSGML Liana//EN
BEGIN:VEVENT
UID:xGlMY@eventilla.com
DTSTAMP:20201117T070000Z
DTSTART:20201117T070000Z
DTEND:20201117T143000Z
SUMMARY:Biotalouspäivät 2020 - yrityssponsori
DESCRIPTION:Biotalouspäivät 2020\, ilmoittautuminen yrityssponsoriksi.\nBIOTALOUSPÄIVÄT: HIILINEUTRAALI BIOKIERTO – businessmahdollisuudet ja pelimerkit\n12. Valtakunnalliset Biotalouspäivät järjestetään 17.11.2020 virtuaalisena! \nLisätietoa Biotalouspäivistä sekä tapahtumaohjelman voit katsoa täältä.\nYrityssponsorointi sisältää rajattoman määrän osallistujia organisaatiosta\, sekä organisaation logonäkyvyyden Biotalouspäivät 2020 -tilaisuuden sivulla ja tapahtuman viestintämateriaaleissa. Yrityssponsoroinnin hinta on 400 € / organisaatio ( + alv 24%)\nMuuta: Ilmoittautumisen vastaanottoviestissä annetaan lisätietoa logon toimittamisesta ja muiden organisaatiosi jäsenten ilmoittautumisesta.  \nLisätietoa: Anna Virolainen-Hynnäanna.virolainen-hynna@biokierto.fi0400-987 805.\nPeruutusehdot: Seminaarin järjestää Suomen Biokierto ja Biokaasu ry. Yrityssponsorointiosallistumista ei voi peruuttaa.
LOCATION:Virtuaalisesti verkossa
URL:http://ssl.tapahtumakone.fi/event/xGlMY
END:VEVENT
END:VCALENDAR
