BEGIN:VCALENDAR
METHOD:PUBLISH
VERSION:2.0
PRODID:-//Eventilla iCal Syndication//NONSGML Liana//EN
BEGIN:VEVENT
UID:xOAAl@eventilla.com
DTSTAMP:20220323T090000Z
DTSTART:20220323T090000Z
DTEND:20220325T110000Z
SUMMARY:Rakennustarkastuspäivät Lappeenrannassa 2022
DESCRIPTION:RTY Rakennustarkastuspäivät Lappeenrannassa 23. - 25.3.2022\nTervetuloa RTY-päiville Lappeenrannan Holiday Club Saimaalle!\nTEEMANA TYÖHYVINVOINTI SEKÄ ILMASTONMUUTOS\nOhjelmassa käsitellään monipuolisesti oman työkyvyn ylläpitämistä. Ilmastonmuutosteemassa tarkastellaan mm. ilmaston lämpenemistä ja rakenteiden riskejä\, ylilämpoä sekä hiilijalanjälkilaskentaa.\nLautakunnille on järjestetty oma osionsa torstai-iltapäivälle\, ja  koko päivien ohjelma on laadittu myös lautakuntien tarpeita silmällä pitäen.\nTuttuun tapaan voit lähettää etukäteen kysymyksiä lakiklinikan vastattavaksi 16.3. mennessä sara.keravuori@rty.inet.fi.\nJuhlimme Lappeenrannassa RTY:n 60-vuotisjuhlavuotta!\nTutustu ohjelmaan » \nKiertoajelutTorstain ohjelman päätteeksi on valittavana neljä kiertoajelua:- Rakuunamäki ja Linnoitus- Keskusta-alueen uudisrakentaminen- Greenreality-kiertoajelu- Kävelyretki Rauhan alueella.Kiertoajeluihin ilmoittaudutaan etukäteen. Varaa paikkasi tästä »\nOsallistumismaksu (alv 0 %):RTY:n jäsenet sekä lautakuntien jäsenet 780 euroaEi jäsenet 830 euroaSamasta kunnasta osallistuvista joka neljäs hintaan 560 euroa.Eläkeläisjäsenille tarjoushinta 200 euroa.\nMajoitus Holiday Club Saimaa108 €/1hh/vrk64 €/hlö/2hh/vrk.Kiintiötunnus RTYVaraukset p.0300 870 900 tai asiakaspalvelu@holidayclub.fi.HUOM: Kiintiöhintaisia huoneita on enää muutama jäljellä\, mutta muita vaihtoehtoja löytyy vielä.Kaikki majoitusvaihtoehdot sisältävät aamiaisen sekä kylpylän vapaan käytön. Saunamaailmaan pääsee 5 euron lisämaksulla.\nHoliday Club Saimaa sijaitsee Lappeenrannan Rauhassa\, lähellä Imatran keskustaa. Lähin rautatieasema on Imatralla 7 kilometrin päässä. Järjestämme kuljetuksen rautatieasemalta hotellille keskiviikkona klo 9.50 ja hotellilta rautatieasemalle perjantaina klo 13.40.\nRTY-päiville on mahdollista osallistua myös etänä. Ilmoittaudu mukaan etänä tästä » \n 
LOCATION:Holiday Club Saimaa\, Rauhanrinne 1\, 55320\, RAUHA\, Suomi
URL:http://ssl.tapahtumakone.fi/event/xOAAl
END:VEVENT
END:VCALENDAR
