BEGIN:VCALENDAR
METHOD:PUBLISH
VERSION:2.0
PRODID:-//Eventilla iCal Syndication//NONSGML Liana//EN
BEGIN:VEVENT
UID:xPbb9@eventilla.com
DTSTAMP:20231013T060000Z
DTSTART:20231013T060000Z
DTEND:20231013T080000Z
SUMMARY:Rakentamislaki-webinaari II osa
DESCRIPTION:Rakennustarkastusyhdistys RTY \nRakentamislaki-webinaari II osa\nPerjantaina 13.10.2023 klo 9.00 - 11.00.\nOhjelma:- Suunnittelijoiden kelpoisuus- Työnaikainen valvonta\, jatkuva valvonta- Keskustelua\nLuennoitsijana toimii varatuomari Lauri Jääskeläinen.\nWebinaarin hinta on 80 € (alv. 0 %) / henkilö.Jos osallistujia on yli 10 henkeä samasta kunnasta\, on joka kolmas osallistuja ilmainen. Kun osallistujia on yli 20\, on joka toinen ilmainen. Kun osallistujia on yli 30\, osallistuvat kaikki loput ilmaiseksi. Osallistuminen on maksutonta RTY:n eläkeläisjäsenille.\nLähetämme ilmoittautuneille osallistumislinkin päivää ennen tilaisuutta. Osallistumislinkin kautta webinaari on katsottavissa myös jälkikäteen.\nTervetuloa mukaan!\nRakentamislakiwebinaarin I osaan (Luvanvaraisuus ja eri lupamuodot) voit ilmoittautua tästä »\nLisätietoja RTY Sara Keravuori 045 1230238 tai sara.keravuori@rty.inet.fi
LOCATION:Webinaari
URL:http://ssl.tapahtumakone.fi/event/xPbb9
END:VEVENT
END:VCALENDAR
