BEGIN:VCALENDAR
METHOD:PUBLISH
VERSION:2.0
PRODID:-//Eventilla iCal Syndication//NONSGML Liana//EN
BEGIN:VEVENT
UID:xPydK@eventilla.com
DTSTAMP:20201022T050000Z
DTSTART:20201022T050000Z
DTEND:20201024T090000Z
SUMMARY:ADR-Täydennyskurssi TP/YT\, Oulu
DESCRIPTION:Koulutuksen tarkoituksena on antaa henkilölle tietoa uudesta tekniikasta\, muuttuneesta lainsäädännöstä ja kuljetettavia aineita koskevasta kehityksestä. Lisäksi kerrataan tärkeimmät vaarallisten aineiden ja esineiden kuljettamiseen liittyvät erityispiirteet.\nKurssin kesto vaihtelee osallistujien ajolupatyypin mukaan. Lyhimmillään kesto on 9 oppituntia (TP) ja laajimmillaan ajoluvan kurssin kesto on 19 oppituntia. TP-ajolupalaisille voidaan tarvittaessa järjestää lyhyt 1-2 oppituntia kestävä koulutus vitrtuaalikoulutuksena ennen tai jälkeen varsinaista kurssipäivää. \nHUOM. ADR-ajolupakoulutuksesta on mahdollista saada hyväksilukua koulutuksen pituudesta riippuen joko yksi (1) tai kaksi (2) ammattipätevyysmerkintää Traficomin ylläpitämään liikenneasiaoiden rekisteriin.\nHUOM! Muistathan varata ajan ADR-ajolupakokeen suorittamiseen Ajovarma Oy:ltä. Ajanvaraus onnistuu soittamalla numeroon 075 323 9999\, tai osoitteesta www.ajovarma.fi/ajanvaraus. TPS17- kokeen kesto on 45 minuuttia ja muiden kokeiden kesto on 30 minuuttia.\nYHTEYSHENKILÖ\n\nPekka Rahkola\n044 2432491\npeksi@vakpekka.fi\n
LOCATION:Fast Oy\, Kiilletie 1\, 90620\, Oulu\, Suomi
URL:http://ssl.tapahtumakone.fi/event/xPydK
END:VEVENT
END:VCALENDAR
