BEGIN:VCALENDAR
METHOD:PUBLISH
VERSION:2.0
PRODID:-//Eventilla iCal Syndication//NONSGML Liana//EN
BEGIN:VEVENT
UID:xYoMM@eventilla.com
DTSTAMP:20210304T220000Z
DTSTART:20210304T220000Z
DTEND:20210324T215900Z
SUMMARY:Kamalokero\, ruokalokero ja/tai vaunupaikka hakulomake kesä 2021
DESCRIPTION:Haku kaudelle 2021: vaunupaikka\, ruoka- ja kamalokerot\nVaunupaikkaa ja lokeroita haetaan pisteytyslomakkeella\, johon pääset alta kohdasta "ilmoittaudu". \nHinnat kaudelle 2021:\n\nVaunupaikka 200€\nRuokalokero 10€\nKamalokero 10€\n\nHakemus tehdään lomakkeella\, jossa jaetaan pisteitä hyppy-\, koulutus- ja kerhoaktiivisuudesta. Jokaisen vaunukuntaan kuuluvan henkilön on täytettävä oma lomake. Hakea voi ainoastaan tällä sähköisellä lomakkeella. Lomake on avoinna ja hakuaikaa on keskiviikkoon 24.3. saakka.\nKaikkien hakijoiden täytyy olla SdF:n jäseniä. SdF:n jäsenmaksu kaudelle 2021 tulee olla maksettuna hakuvaiheessa. Lisäksi jokaisen (myös jokaisen vaunukuntaan kuuluvan) tulee olla maksanut kaikki vanhat laskunsa kerholle.\nJakoperusteet\nJos hakijoiden määrä on suurempi kuin jaossa olevien paikkojen\, jaetaan paikat pisteytyksen perusteella. Lisäksi kamalokeropaikkojen haussa autottomat ovat etusijalla.\nVaunupaikkojen ja lokeroiden lunastaminen\nLunastamisen tulee tapahtua ennen kesäkuun puoliväliä. Jos näin ei tehdä\, siirtyvät saadut paikat/lokerot automaattisesti seuraavalle hakijalle. Paikat ja lokerot laskutetaan ja laskut on maksettava eräpäivään mennessä. \nVaunujen siirtäminen pois talvisäilöstä\nVaunu on siirrettävä ulos pakkaushallista 16.-18.4. viikonloppuna. Mikäli vaunun omistaja on itse estynyt siirtämään vaunua\, siitä on ilmoitettava Sadulle etukäteen (info@skydivefinland.fi). Kaikista niistä vaunuista\, jotka siirretään omistajan puolesta\, veloitetaan lisäksi siirtomaksu 50€. Vaunupaikka ja mahdolliset siirtomaksut on maksettava lähetetyn laskun eräpäivään mennessä.\nMyöhässä tulleet hakemukset\nMyöhässä tulleet hakemukset eivät osallistu pisteytykseen. Lomake sulkeutuu 24.3. klo 23.59.\n 
LOCATION:Skydive Finland ry\, Lentoportintie 85\, 45410\, Kouvola
URL:http://ssl.tapahtumakone.fi/event/xYoMM
END:VEVENT
END:VCALENDAR
