BEGIN:VCALENDAR
METHOD:PUBLISH
VERSION:2.0
PRODID:-//Eventilla iCal Syndication//NONSGML Liana//EN
BEGIN:VEVENT
UID:xaWK4@eventilla.com
DTSTAMP:20220305T100000Z
DTSTART:20220305T100000Z
DTEND:20220305T180000Z
SUMMARY:Oppilaskertaus
DESCRIPTION:Oppilaskertaus - Oppilastoiminnan kick-off\nLauantaina 5.3.2022 Klo 12-20 Aeronautica Arena (Pyhtää)\nOppilaskausi 2022 potkaistaan räväkästi käyntiin 5.3. järjestettävässä megatapahtumassa! Tapahtuman aikataulu tarkentuu lähempänä\, mutta luvassa mm:\n-Oppilaskertauksien teoriat\n-Mahdollisuus antaa käytännön näytteet ja teoriakoe\n-Pakkauskoulutusta\n-Tunnelilentomahdollisuus (hinta tarkentuu lähempänä)\n-Hyvää ruokaa (ateriapaketit tulevat olemaan 40€ per naama\, sisältäen aamupalan\, lounaan\, iltapäiväkahvit ja illallisen)\n-Sauna\nNe\, jotka saapuvat kyseiseen tapahtumaan ovat kiilausoikeudessa hyppykauden alkaessa\, sillä pakolliset teoriakertaukset ja käytännön näytteet on jo annettu! Tämän päivän jälkeen olet siis kirjaimellisesti valmis laittamaan nimesi oppilastauluun heti kun hyppykausi päästään aloittamaan\, muiden odotellessa kiltisti vuoroaan\, että mesu kerkeää ottamaan käytännön näyttet ja teoriakokeet. Kannattaa siis lyödä tämä tapahtuma kalenteriin jo nyt!\nEnnen kertausta\n\nMaksa Skydive Finlandin jäsenmaksu\nMaksa Suomen Ilmailuliiton jäsenmaksu\nKertaa laskuvarjohyppääjän oppaasta kaikki teoria-asiat siihen saakka mikä vastaa koulutusluokkaasi (alkeiskoulutus\, peruskoulutus\, jatkokoulutus)\nPalauta mieleesi uusittavat taidonnäytteet: varavarjon käyttö\, uloshyppy\, kaatuminen\n\n \nTervetuloa hyppäämään kaudella 2022!
LOCATION:
URL:http://ssl.tapahtumakone.fi/event/xaWK4
END:VEVENT
END:VCALENDAR
